0.3
0
0
-0.3
360800.15
3874799.85
