0.3
0
0
-0.3
357800.15
3826799.85
