0.3
0
0
-0.3
354800.15
3892799.85
