0.3
0
0
-0.3
351800.15
3883799.85
