0.3
0
0
-0.3
348800.15
3988799.85
