0.3
0
0
-0.3
339800.15
3907799.85
