0.3
0
0
-0.3
333800.15
3865799.85
