0.3
0
0
-0.3
330800.15
3865799.85
