0.3
0
0
-0.3
318800.15
3883799.85
