0.3
0
0
-0.3
306800.15
3850799.85
