0.3
0
0
-0.3
300800.15
3841799.85
