0.3
0
0
-0.3
297800.15
3841799.85
