0.3
0
0
-0.3
291800.15
3832799.85
