0.3
0
0
-0.3
288800.15
3832799.85
