0.3
0
0
-0.3
288800.15
3829799.85
