0.3
0
0
-0.3
285800.15
3841799.85
