0.3
0
0
-0.3
282800.15
3823799.85
