0.3
0
0
-0.3
279800.15
3847799.85
