0.3
0
0
-0.3
279800.15
3838799.85
