0.3
0
0
-0.3
276800.15
3844799.85
