0.3
0
0
-0.3
270800.15
3832799.85
