0.3
0
0
-0.3
267800.15
3814799.85
