0.3
0
0
-0.3
264800.15
3814799.85
