0.3
0
0
-0.3
261800.15
3814799.85
