0.3
0
0
-0.3
258800.15
3811799.85
