0.3
0
0
-0.3
255800.15
3805799.85
