0.3
0
0
-0.3
252800.15
3814799.85
