0.3
0
0
-0.3
249800.15
3799799.85
