0.3
0
0
-0.3
243800.15
3799799.85
