0.3
0
0
-0.3
237800.15
3793799.85
