0.3
0
0
-0.3
237800.15
3781799.85
