0.3
0
0
-0.3
231800.15
3772799.85
