0.3
0
0
-0.3
228800.15
3793799.85
