0.3
0
0
-0.3
225800.15
3790799.85
