0.3
0
0
-0.3
225800.15
3769799.85
