0.3
0
0
-0.3
222800.15
3766799.85
