0.3
0
0
-0.3
219800.15
3754799.85
