0.3
0
0
-0.3
213800.15
3760799.85
