0.3
0
0
-0.3
204800.15
3757799.85
