0.3
0
0
-0.3
201800.15
3763799.85
