0.3
0
0
-0.3
195800.15
3763799.85
