0.3
0
0
-0.3
195800.15
3757799.85
