0.3
0
0
-0.3
189800.15
3760799.85
