0.3
0
0
-0.3
186800.15
3757799.85
