0.3
0
0
-0.3
162800.15
3751799.85
