0.3
0
0
-0.3
159800.15
3754799.85
