0.3
0
0
-0.3
159800.15
3748799.85
