0.3
0
0
-0.3
156800.15
3754799.85
