0.3
0
0
-0.3
153800.15
3751799.85
