0.3
0
0
-0.3
150800.15
3745799.85
